BEGIN:VCALENDAR
VERSION:2.0
PRODID:-//Tukios.com/
BEGIN:VEVENT
UID:3acb5c62-0660-43f4-afd2-de2adccf414a@www.saskatoonfuneralhome.com
DTSTAMP:20260422T040808Z
DTSTART:20260423T200000Z
DTEND:20260423T210000Z
SUMMARY:Memorial Service
DESCRIPTION:
URL:https://www.saskatoonfuneralhome.com/obituaries/autumn-carruthers
LOCATION:Saskatoon Funeral Home 338 - 4th Avenue North  Saskatoon SK S7K 
	2L7
GEO:52.1325354;-106.6578003
END:VEVENT
END:VCALENDAR